BEGIN:VCALENDAR
VERSION:2.0
PRODID:-//Plone.org//NONSGML plone.app.event//EN
X-WR-TIMEZONE:Europe/Madrid
BEGIN:VEVENT
SUMMARY:FOOT Research
DTSTART;VALUE=DATE:20220909
DTEND;VALUE=DATE:20220910
DTSTAMP:20260420T064353Z
UID:40cf44ad434d4c209fc975e7fb878e61@doo.upc.edu
CREATED:20220729T100443Z
LAST-MODIFIED:20220729T100446Z
URL:https://doo.upc.edu/ca/esdeveniments/foot-research
END:VEVENT
END:VCALENDAR
